BEGIN:VCALENDAR
VERSION:2.0
PRODID:spatie/icalendar-generator
DESCRIPTION:Events from Dewey-Humboldt Historical society
X-WR-CALDESC:Events from Dewey-Humboldt Historical society
REFRESH-INTERVAL;VALUE=DURATION:PT1440M
X-PUBLISHED-TTL:PT1440M
BEGIN:VTIMEZONE
TZID:Etc/GMT+0
BEGIN:STANDARD
DTSTART:20250705T000000Z
TZOFFSETFROM:+0000
TZOFFSETTO:+0000
END:STANDARD
END:VTIMEZONE
BEGIN:VTIMEZONE
TZID:UTC
BEGIN:STANDARD
DTSTART:20250730T043618Z
TZOFFSETFROM:+0000
TZOFFSETTO:+0000
END:STANDARD
END:VTIMEZONE
BEGIN:VEVENT
UID:3-3
DTSTAMP:20260426T043618Z
SUMMARY:Board Meeting
LOCATION:
ORGANIZER;CN=admin:MAILTO:info@techguruarizona.com
DTSTART;TZID=Etc/GMT+0;VALUE=DATE:20260401
DTEND;TZID=Etc/GMT+0;VALUE=DATE:20260402
X-ALT-DESC;FMTTYPE=TEXT/HTML:Board Meeting
CATEGORIES:General
URL;VALUE=URI:https://dhhsmuseum.org/mc-events/board-meeting-2/
METHOD:PUBLISH
END:VEVENT
END:VCALENDAR