BEGIN:VCALENDAR
VERSION:2.0
PRODID:spatie/icalendar-generator
DESCRIPTION:Events from Dewey-Humboldt Historical society
X-WR-CALDESC:Events from Dewey-Humboldt Historical society
REFRESH-INTERVAL;VALUE=DURATION:PT1440M
X-PUBLISHED-TTL:PT1440M
BEGIN:VTIMEZONE
TZID:Etc/GMT+0
BEGIN:STANDARD
DTSTART:20250712T000000Z
TZOFFSETFROM:+0000
TZOFFSETTO:+0000
END:STANDARD
END:VTIMEZONE
BEGIN:VTIMEZONE
TZID:UTC
BEGIN:STANDARD
DTSTART:20250727T164043Z
TZOFFSETFROM:+0000
TZOFFSETTO:+0000
END:STANDARD
END:VTIMEZONE
BEGIN:VEVENT
UID:16-2
DTSTAMP:20260423T164043Z
SUMMARY:General Meeting
LOCATION:
ORGANIZER;CN=admin:MAILTO:info@techguruarizona.com
DTSTART;TZID=Etc/GMT+0;VALUE=DATE:20260408
DTEND;TZID=Etc/GMT+0;VALUE=DATE:20260409
X-ALT-DESC;FMTTYPE=TEXT/HTML:General Meeting
CATEGORIES:General
URL;VALUE=URI:https://dhhsmuseum.org/mc-events/general-meeting/
METHOD:PUBLISH
END:VEVENT
END:VCALENDAR